BEGIN:VCALENDAR
VERSION:2.0
PRODID:-//Plone.org//NONSGML plone.app.event//EN
X-WR-TIMEZONE:Europe/Vienna
BEGIN:VEVENT
SUMMARY:Otto Wagner Lecture 2019
DTSTART;TZID=Europe/Vienna:20191111T190000
DTSTAMP:20260423T195700Z
UID:d94d0061b7a88f78d6cda9c9cb44e683@www.akbild.ac.at
CATEGORIES:Vorträge / Veranstaltungen
CREATED:20220312T095218Z
DESCRIPTION:Vandana Shiva:\n  \n   Soil not Oil | The transfer from the ag
 e of fossil fuel for the awareness of a living Earth\n  \n \n\n\n Moderati
 on: Anette Baldauf\, Ujjwal Utkarsh. In English\n\n\n 10. November 2019\, 
 15.30 Uhr: Filmscreening\n \n  Earth Others\n \n (curated by Kelly Ann Gar
 dener und Christina Jauernik)\n \n Filmmuseum\, Augustinerstraße 1\, 1010
  Vienna\n \n Eintritt frei
LAST-MODIFIED:20240919T081328Z
URL:https://www.akbild.ac.at/de/institute/kunst-und-architektur/veranstalt
 ungen/vortrage-events/2019/erde-nicht-erdoel-der-uebergang-vom-erdoelzeita
 lter-fuer-das-bewusstsein-einer-lebendigen-erde
END:VEVENT
BEGIN:VTIMEZONE
TZID:Europe/Vienna
X-LIC-LOCATION:Europe/Vienna
BEGIN:STANDARD
DTSTART:20191027T020000
TZNAME:CET
TZOFFSETFROM:+0200
TZOFFSETTO:+0100
END:STANDARD
END:VTIMEZONE
END:VCALENDAR
