BEGIN:VCALENDAR
VERSION:2.0
PRODID:-//Plone.org//NONSGML plone.app.event//EN
X-WR-TIMEZONE:Europe/Vienna
BEGIN:VEVENT
SUMMARY:On the central norms and imperatives of Western aesthetics
DTSTART;TZID=Europe/Vienna:20190603T190000
DTSTAMP:20260425T175819Z
UID:1fed1ce9bc7e4634aca99c73b15c3948@www.akbild.ac.at
CATEGORIES:Vorträge / Veranstaltungen
CREATED:20220312T095149Z
DESCRIPTION:Vortrag von Ruth Sonderegger im Rahmen der IKA Lecture Series 
 WS 2018/2019\n \n  Nutzlosigkeit – das wertvollste Werkzeug der Menschhe
 it?\n \n organisiert und kuratiert von Michelle Howard and Luciano Parodi.
LAST-MODIFIED:20240919T081328Z
URL:https://www.akbild.ac.at/de/institute/kunst-und-architektur/veranstalt
 ungen/vortrage-events/2019/lost-skills-lost-potentials-and-fiberpunk
END:VEVENT
BEGIN:VTIMEZONE
TZID:Europe/Vienna
X-LIC-LOCATION:Europe/Vienna
BEGIN:DAYLIGHT
DTSTART:20190331T030000
TZNAME:CEST
TZOFFSETFROM:+0100
TZOFFSETTO:+0200
END:DAYLIGHT
END:VTIMEZONE
END:VCALENDAR
