BEGIN:VCALENDAR
VERSION:2.0
PRODID:-//Plone.org//NONSGML plone.app.event//EN
X-WR-TIMEZONE:Europe/Vienna
BEGIN:VEVENT
SUMMARY:Die Kunst der Folgenlosigkeit
DTSTART;TZID=Europe/Vienna:20221209T190000
DTSTAMP:20260425T140433Z
UID:f78c266c194f48539b95bdff42c8cd0c@www.akbild.ac.at
CATEGORIES:Vorträge / Veranstaltungen
CREATED:20221201T111057Z
DESCRIPTION:In Kooperation mit dem Institut für Kunst und Architektur\, A
 kademie der bildenden Künste Wien und der Klasse für Bühnen- und Filmge
 staltung\, Universität für angewandte Kunst
LAST-MODIFIED:20240919T081324Z
URL:https://www.akbild.ac.at/de/institute/kunst-und-architektur/veranstalt
 ungen/vortrage-events/2022/die-kunst-der-folgenlosigkeit-filmpraesentation
 -und-podiumsdiskussion
END:VEVENT
BEGIN:VTIMEZONE
TZID:Europe/Vienna
X-LIC-LOCATION:Europe/Vienna
BEGIN:STANDARD
DTSTART:20221030T020000
TZNAME:CET
TZOFFSETFROM:+0200
TZOFFSETTO:+0100
END:STANDARD
END:VTIMEZONE
END:VCALENDAR
