BEGIN:VCALENDAR
VERSION:2.0
PRODID:-//Plone.org//NONSGML plone.app.event//EN
X-WR-TIMEZONE:Europe/Vienna
BEGIN:VEVENT
SUMMARY:Ernst A. Plischke (1903–1992): Architekt der Moderne zwischen zw
 ei Welten
DTSTART;TZID=Europe/Vienna:20221207T190000
DTSTAMP:20260423T211610Z
UID:56baea686fed46c2a21547c160b2e48b@www.akbild.ac.at
CATEGORIES:Vorträge / Veranstaltungen
CREATED:20221201T104958Z
DESCRIPTION:Vortrag von Professor Dr.-Ing. Christoph Schnoor (Unitec Insti
 tute of Technology in Auckland\, Neuseeland) in englischer Sprache.
LAST-MODIFIED:20240919T081324Z
URL:https://www.akbild.ac.at/de/institute/kunst-und-architektur/veranstalt
 ungen/vortrage-events/2022/ernst-a-plischke-1903-1992-architekt-der-modern
 e-zwischen-zwei-welten
END:VEVENT
BEGIN:VTIMEZONE
TZID:Europe/Vienna
X-LIC-LOCATION:Europe/Vienna
BEGIN:STANDARD
DTSTART:20221030T020000
TZNAME:CET
TZOFFSETFROM:+0200
TZOFFSETTO:+0100
END:STANDARD
END:VTIMEZONE
END:VCALENDAR
