BEGIN:VCALENDAR
VERSION:2.0
PRODID:-//Plone.org//NONSGML plone.app.event//EN
X-WR-TIMEZONE:Europe/Vienna
BEGIN:VEVENT
SUMMARY:the SPACE between NOTES
DTSTART;TZID=Europe/Vienna:20220613T190000
DTSTAMP:20260424T134229Z
UID:e82db56995124d11ac4610dfc4dc81f0@www.akbild.ac.at
CATEGORIES:Vorträge / Veranstaltungen
CREATED:20220531T093918Z
DESCRIPTION:Vortrag von David J. Liebermann am Institut für Kunst und Arc
 hitektur in englischer Sprache.
LAST-MODIFIED:20240919T081321Z
URL:https://www.akbild.ac.at/de/institute/kunst-und-architektur/veranstalt
 ungen/vortrage-events/2022/the-space-between-notes
END:VEVENT
BEGIN:VTIMEZONE
TZID:Europe/Vienna
X-LIC-LOCATION:Europe/Vienna
BEGIN:DAYLIGHT
DTSTART:20220327T030000
TZNAME:CEST
TZOFFSETFROM:+0100
TZOFFSETTO:+0200
END:DAYLIGHT
END:VTIMEZONE
END:VCALENDAR
