BEGIN:VCALENDAR
VERSION:2.0
PRODID:-//Plone.org//NONSGML plone.app.event//EN
X-WR-TIMEZONE:Europe/Vienna
BEGIN:VEVENT
SUMMARY:Climate Peace
DTSTART;TZID=Europe/Vienna:20230123T190000
DTSTAMP:20260422T115748Z
UID:c5b377a1c7ab45df8dbe6ac4e0a0cd46@www.akbild.ac.at
CATEGORIES:Vorträge / Veranstaltungen
CREATED:20230116T174239Z
DESCRIPTION:Vortrag von Ann-Sofi Rönnskog—Territorial Agency im Rahmen 
 der Vortragsreihe im Rahmen der GLC Vortragsreihe Ruptured Landscapes kur
 atiert von Aristide Antonas.
LAST-MODIFIED:20240919T081324Z
URL:https://www.akbild.ac.at/de/institute/kunst-und-architektur/veranstalt
 ungen/vortrage-events/2022/zerrissene-landschaften/lecture-ann-sofi-roenns
 kog-territorial-agency
END:VEVENT
BEGIN:VTIMEZONE
TZID:Europe/Vienna
X-LIC-LOCATION:Europe/Vienna
BEGIN:STANDARD
DTSTART:20221030T020000
TZNAME:CET
TZOFFSETFROM:+0200
TZOFFSETTO:+0100
END:STANDARD
END:VTIMEZONE
END:VCALENDAR
