BEGIN:VCALENDAR
VERSION:2.0
PRODID:-//Plone.org//NONSGML plone.app.event//EN
X-WR-TIMEZONE:Europe/Vienna
BEGIN:VEVENT
SUMMARY:The Artwork as a Living System - Focus on VR and AR Works
DTSTART;TZID=Europe/Vienna:20230503T113000
DTSTAMP:20260423T151559Z
UID:0e0d0fe01e9f4026a2bccff480e7be1a@www.akbild.ac.at
CATEGORIES:Vorträge / Veranstaltungen
CREATED:20230502T150047Z
DESCRIPTION:Vorlesung von Christa Sommerer auf Englisch im Rahmen des Semi
 nars Female Pioneers in the History of VR von Paula Strunden.
LAST-MODIFIED:20240919T081321Z
URL:https://www.akbild.ac.at/de/institute/kunst-und-architektur/veranstalt
 ungen/vortrage-events/2023/the-artwork-as-a-living-system-focus-on-vr-and-
 ar-works
END:VEVENT
BEGIN:VTIMEZONE
TZID:Europe/Vienna
X-LIC-LOCATION:Europe/Vienna
BEGIN:DAYLIGHT
DTSTART:20230326T030000
TZNAME:CEST
TZOFFSETFROM:+0100
TZOFFSETTO:+0200
END:DAYLIGHT
END:VTIMEZONE
END:VCALENDAR
