BEGIN:VCALENDAR
VERSION:2.0
PRODID:-//Plone.org//NONSGML plone.app.event//EN
X-WR-TIMEZONE:Europe/Vienna
BEGIN:VEVENT
SUMMARY:Hala Wardé: From the Accident of the Museum to the Museum of the 
 Accident
DTSTART;TZID=Europe/Vienna:20240618T170000
DTEND;TZID=Europe/Vienna:20240618T183000
DTSTAMP:20260425T024426Z
UID:c0a9207d951c40b785557017770fc0da@www.akbild.ac.at
CATEGORIES:Vorträge / Veranstaltungen
CREATED:20240614T094432Z
DESCRIPTION:Vortrag im Rahmen des Entwurfsstudios “The Museum of the Acc
 ident”\, Einführung von Ines Weizman.
LAST-MODIFIED:20240919T081321Z
URL:https://www.akbild.ac.at/de/institute/kunst-und-architektur/veranstalt
 ungen/vortrage-events/2024/hala-warde-from-the-accident-of-the-museum-to-t
 he-museum-of-the-accident
END:VEVENT
BEGIN:VTIMEZONE
TZID:Europe/Vienna
X-LIC-LOCATION:Europe/Vienna
BEGIN:DAYLIGHT
DTSTART:20240331T030000
TZNAME:CEST
TZOFFSETFROM:+0100
TZOFFSETTO:+0200
END:DAYLIGHT
END:VTIMEZONE
END:VCALENDAR
