BEGIN:VCALENDAR
VERSION:2.0
PRODID:-//Plone.org//NONSGML plone.app.event//EN
X-WR-TIMEZONE:Europe/Vienna
BEGIN:VEVENT
SUMMARY:(Re)Generation - Vortrag von Thomas Daniell
DTSTART;TZID=Europe/Vienna:20240613T180000
DTSTAMP:20260424T144929Z
UID:e9b416a655fb473ca63a85ad79f9ed9d@www.akbild.ac.at
CATEGORIES:Vorträge / Veranstaltungen
CREATED:20240613T073458Z
DESCRIPTION:Ein Vortrag von Thomas Daniell\, Professor für Architekturges
 chichte\, -theorie und -kritik an der Universität Kyoto\, Japan. Organisi
 ert vom Institut für Kunst und Architektur (IKA).
LAST-MODIFIED:20240919T081321Z
URL:https://www.akbild.ac.at/de/institute/kunst-und-architektur/veranstalt
 ungen/vortrage-events/2024/re-generation-vortrag-von-thomas-daniell
END:VEVENT
BEGIN:VTIMEZONE
TZID:Europe/Vienna
X-LIC-LOCATION:Europe/Vienna
BEGIN:DAYLIGHT
DTSTART:20240331T030000
TZNAME:CEST
TZOFFSETFROM:+0100
TZOFFSETTO:+0200
END:DAYLIGHT
END:VTIMEZONE
END:VCALENDAR
