BEGIN:VCALENDAR
VERSION:2.0
PRODID:-//Plone.org//NONSGML plone.app.event//EN
X-WR-TIMEZONE:Europe/Vienna
BEGIN:VEVENT
SUMMARY:Susanne Brorson: [em]Island Ecologies[/em]
DTSTART;TZID=Europe/Vienna:20250512T190000
DTSTAMP:20260420T190853Z
UID:8734339d41484611952be40e85e1ac5d@www.akbild.ac.at
CATEGORIES:Vorträge / Veranstaltungen
CREATED:20250429T142044Z
DESCRIPTION:Vortrag im Rahmen der IKA Lecture Series S2025. Susanne Brorso
 n ist die derzeitige Gastprofessorin am Institut für Kunst und Architektu
 r. In ihrem Vortrag wird sie über Experimente in Forschung\, Lehre und Pr
 axis sprechen.
LAST-MODIFIED:20250513T095738Z
URL:https://www.akbild.ac.at/de/institute/kunst-und-architektur/veranstalt
 ungen/vortrage-events/2025/ika-lecture-series-s2025/susanne-brorson-em-isl
 and-ecologies-em
END:VEVENT
BEGIN:VTIMEZONE
TZID:Europe/Vienna
X-LIC-LOCATION:Europe/Vienna
BEGIN:DAYLIGHT
DTSTART:20250330T030000
TZNAME:CEST
TZOFFSETFROM:+0100
TZOFFSETTO:+0200
END:DAYLIGHT
END:VTIMEZONE
END:VCALENDAR
