BEGIN:VCALENDAR
VERSION:2.0
PRODID:-//Plone.org//NONSGML plone.app.event//EN
X-WR-TIMEZONE:Europe/Vienna
BEGIN:VEVENT
SUMMARY:Françoise Fromonot: Lenscapes
DTSTART;TZID=Europe/Vienna:20260112T190000
DTSTAMP:20260422T133703Z
UID:d50e1adde87e4398bdeed0d531ff1da4@www.akbild.ac.at
CATEGORIES:Vorträge / Veranstaltungen
CREATED:20251223T102825Z
DESCRIPTION:Vortrag von Françoise Fromonot (ENSA Paris-Belleville\, Paris
 ) im Rahmen der IKA Lecture Series Winter 25: Hands on — Urban Landscape
  Practices in Europe\, kuratiert von Thilo Folkerts und Christina Condak.
LAST-MODIFIED:20260112T114847Z
URL:https://www.akbild.ac.at/de/institute/kunst-und-architektur/veranstalt
 ungen/vortrage-events/2025/ika-lecture-series-winter-2025/lenscapes
END:VEVENT
BEGIN:VTIMEZONE
TZID:Europe/Vienna
X-LIC-LOCATION:Europe/Vienna
BEGIN:STANDARD
DTSTART:20251026T020000
TZNAME:CET
TZOFFSETFROM:+0200
TZOFFSETTO:+0100
END:STANDARD
END:VTIMEZONE
END:VCALENDAR
