BEGIN:VCALENDAR
VERSION:2.0
PRODID:-//Plone.org//NONSGML plone.app.event//EN
X-WR-TIMEZONE:Europe/Vienna
BEGIN:VEVENT
SUMMARY:Cathrin-Pichler-Preis 2017: Laura Nitsch und Barbara Juch
DTSTART;TZID=Europe/Vienna:20170119T140000
DTEND;TZID=Europe/Vienna:20170120T150000
DTSTAMP:20260425T121730Z
UID:207c7734b8824403886ef66e147bf81b@www.akbild.ac.at
CATEGORIES:Ausstellungen
CREATED:20221221T135600Z
DESCRIPTION:Mit Unterstützung der Freunde des Cathrin Pichler Archivs wir
 d 2017 zum ersten Mal der Cathrin Pichler Preis vergeben. Den Preis erhiel
 ten Laura Nitsch und Barbara Juch (Master of Critical Studies) für ihre A
 rbeit Elemente einer Landschaft.
LAST-MODIFIED:20240802T101913Z
URL:https://www.akbild.ac.at/de/institute/kunst-und-kulturwissenschaften/v
 eranstaltungen/ausstellungen/cathrin-pichler-preis-2017-laura-nitsch-und-b
 arbara-juch
END:VEVENT
BEGIN:VTIMEZONE
TZID:Europe/Vienna
X-LIC-LOCATION:Europe/Vienna
BEGIN:STANDARD
DTSTART:20161030T020000
TZNAME:CET
TZOFFSETFROM:+0200
TZOFFSETTO:+0100
END:STANDARD
END:VTIMEZONE
END:VCALENDAR
