BEGIN:VCALENDAR
VERSION:2.0
PRODID:-//Plone.org//NONSGML plone.app.event//EN
X-WR-TIMEZONE:Europe/Vienna
BEGIN:VEVENT
SUMMARY:Popkongress 2015
DTSTART;VALUE=DATE:20150129
DTEND;VALUE=DATE:20150201
DTSTAMP:20260424T045950Z
UID:711ce54ff8faff0bd0a9c2b367e283e4@www.akbild.ac.at
CATEGORIES:Konferenzen
CREATED:20220312T100327Z
DESCRIPTION:COMPARED TO WHAT? Zum Verhältnis von Normativität und Subver
 sion in popkulturellen Zusammenhängen\n\n\n \n  Keynotes:\n \n Hans-Chris
 tian Dany\, Diedrich Diederichsen\, Christian Höller\, Chantal Mouffe
LAST-MODIFIED:20240802T101913Z
URL:https://www.akbild.ac.at/de/institute/kunst-und-kulturwissenschaften/v
 eranstaltungen/konferenzen/2015/popkongress-2015
END:VEVENT
END:VCALENDAR
