BEGIN:VCALENDAR
VERSION:2.0
PRODID:-//Plone.org//NONSGML plone.app.event//EN
X-WR-TIMEZONE:Europe/Vienna
BEGIN:VEVENT
SUMMARY:Erwerbung\, Inventarisierung
DTSTART;TZID=Europe/Vienna:20210121T164500
DTEND;TZID=Europe/Vienna:20210121T181500
DTSTAMP:20260423T211608Z
UID:1984c2c8e324304303d1d0a9a7e3163f@www.akbild.ac.at
CATEGORIES:Konferenzen
CREATED:20220312T100425Z
DESCRIPTION:Vortrag von\n \n  \n   \n    Rose-Anne Gush (Angewandte)\n   \
 n  \n \n im Rahmen der Vortragsreihe\n \n  Perspektiven auf zeitgenössisc
 he Kunst\n \n in Kooperation mit der Universität Wien und der Universitä
 t für Angewandte Kunst.\n \n Live on Screen:\n \n  https://ustream.univie
 .ac.at/live/watch.html?id=75bcbc1f-beec-4eb5-8139-251407e93ae0\n \n \n\n\n
  Jeden Donnerstag von 16.45 – 18.15 Uhr\n\n\n Während und nach der Vort
 räge wird ein rocket.chat channel eröffnet:  Fragen\, Diskussionsbeiträ
 ge etc. einfach dort posten\, wir lesen sie dann  vor Ort vor und stellen 
 sie an die Vortragenden:\n \n \n  https://chat.uni-ak.ac.at/group/perspect
 ivesoncontemporaryart
LAST-MODIFIED:20240802T101909Z
URL:https://www.akbild.ac.at/de/institute/kunst-und-kulturwissenschaften/v
 eranstaltungen/konferenzen/2021/gute-kunst.-die-ethische-wende-kuenstleris
 cher-und-kunstkritischer-praxis
END:VEVENT
BEGIN:VTIMEZONE
TZID:Europe/Vienna
X-LIC-LOCATION:Europe/Vienna
BEGIN:STANDARD
DTSTART:20201025T020000
TZNAME:CET
TZOFFSETFROM:+0200
TZOFFSETTO:+0100
END:STANDARD
END:VTIMEZONE
END:VCALENDAR
