BEGIN:VCALENDAR
VERSION:2.0
PRODID:-//Plone.org//NONSGML plone.app.event//EN
X-WR-TIMEZONE:Europe/Vienna
BEGIN:VEVENT
SUMMARY:Brandon LaBelle: Towards the work of Acoustic Justice
DTSTART;TZID=Europe/Vienna:20220531T190000
DTEND;TZID=Europe/Vienna:20220531T203000
DTSTAMP:20260421T183908Z
UID:0c75541169ed437aa2d742900d9d7176@www.akbild.ac.at
CATEGORIES:Vorträge / Veranstaltungen
CREATED:20220511T134809Z
DESCRIPTION:Dieser Programmpunkt ist nicht öffentlich zugänglich.\nIm Ra
 hmen des Spring Curatorial Program 2022: Art Geographies.
LAST-MODIFIED:20240802T101909Z
URL:https://www.akbild.ac.at/de/institute/kunst-und-kulturwissenschaften/v
 eranstaltungen/konferenzen/2022/spring-curatorial-program-art-geographies/
 brandon-labelle-towards-the-work-of-acoustic-justice
END:VEVENT
BEGIN:VTIMEZONE
TZID:Europe/Vienna
X-LIC-LOCATION:Europe/Vienna
BEGIN:DAYLIGHT
DTSTART:20220327T030000
TZNAME:CEST
TZOFFSETFROM:+0100
TZOFFSETTO:+0200
END:DAYLIGHT
END:VTIMEZONE
END:VCALENDAR
