BEGIN:VCALENDAR
VERSION:2.0
PRODID:-//Plone.org//NONSGML plone.app.event//EN
X-WR-TIMEZONE:Europe/Vienna
BEGIN:VEVENT
SUMMARY:Crit-Cross: A Forum on Art Criticism #17
DTSTART;TZID=Europe/Vienna:20220527T183000
DTEND;TZID=Europe/Vienna:20220527T203000
DTSTAMP:20260421T184357Z
UID:938495095b684802b74de155ec87ec09@www.akbild.ac.at
CATEGORIES:Vorträge / Veranstaltungen
CREATED:20220510T084614Z
DESCRIPTION:Im Rahmen des Spring Curatorial Program 2022: Art Geographies.
LAST-MODIFIED:20240802T101909Z
URL:https://www.akbild.ac.at/de/institute/kunst-und-kulturwissenschaften/v
 eranstaltungen/konferenzen/2022/spring-curatorial-program-art-geographies/
 crit-cross-a-forum-on-art-criticism-17
END:VEVENT
BEGIN:VTIMEZONE
TZID:Europe/Vienna
X-LIC-LOCATION:Europe/Vienna
BEGIN:DAYLIGHT
DTSTART:20220327T030000
TZNAME:CEST
TZOFFSETFROM:+0100
TZOFFSETTO:+0200
END:DAYLIGHT
END:VTIMEZONE
END:VCALENDAR
