BEGIN:VCALENDAR
VERSION:2.0
PRODID:-//Plone.org//NONSGML plone.app.event//EN
X-WR-TIMEZONE:Europe/Vienna
BEGIN:VEVENT
SUMMARY:Out of Brazil: The ethnographic collections at the Weltmuseum Wien
DTSTART;TZID=Europe/Vienna:20220428T140000
DTEND;TZID=Europe/Vienna:20220428T160000
DTSTAMP:20260422T040648Z
UID:fb76e544117a451ebcb3007e26124cfe@www.akbild.ac.at
CATEGORIES:Konferenzen
CREATED:20220330T103822Z
DESCRIPTION:Lecture by Claudia Augustat as part of the lecture series   Tr
 ansatlantic Modernities between Brazil and Austria.
LAST-MODIFIED:20240802T101909Z
URL:https://www.akbild.ac.at/de/institute/kunst-und-kulturwissenschaften/v
 eranstaltungen/konferenzen/2022/transatlantic-modernities-between-brazil-a
 nd-austria/out-of-brazil-the-ethnographic-collections-at-the-weltmuseum-wi
 en
END:VEVENT
BEGIN:VTIMEZONE
TZID:Europe/Vienna
X-LIC-LOCATION:Europe/Vienna
BEGIN:DAYLIGHT
DTSTART:20220327T030000
TZNAME:CEST
TZOFFSETFROM:+0100
TZOFFSETTO:+0200
END:DAYLIGHT
END:VTIMEZONE
END:VCALENDAR
