BEGIN:VCALENDAR
VERSION:2.0
PRODID:-//Plone.org//NONSGML plone.app.event//EN
X-WR-TIMEZONE:Europe/Vienna
BEGIN:VEVENT
SUMMARY:Sensitive female universes: considerations on the work of the Hung
 arian-Brazilian artist Yolanda Mohalyi
DTSTART;TZID=Europe/Vienna:20220512T140000
DTEND;TZID=Europe/Vienna:20220512T160000
DTSTAMP:20260422T055426Z
UID:24a5ab7fdfa5403b8732f7caf2702290@www.akbild.ac.at
CATEGORIES:Konferenzen
CREATED:20220330T104217Z
DESCRIPTION:Lecture by Ana Avelar as part of the lecture series  Transatla
 ntic Modernities between Brazil and Austria.
LAST-MODIFIED:20240802T101909Z
URL:https://www.akbild.ac.at/de/institute/kunst-und-kulturwissenschaften/v
 eranstaltungen/konferenzen/2022/transatlantic-modernities-between-brazil-a
 nd-austria/sensitive-female-universes-considerations-on-the-work-of-the-hu
 ngarian-brazilian-artist-yolanda-mohalyi
END:VEVENT
BEGIN:VTIMEZONE
TZID:Europe/Vienna
X-LIC-LOCATION:Europe/Vienna
BEGIN:DAYLIGHT
DTSTART:20220327T030000
TZNAME:CEST
TZOFFSETFROM:+0100
TZOFFSETTO:+0200
END:DAYLIGHT
END:VTIMEZONE
END:VCALENDAR
