BEGIN:VCALENDAR
VERSION:2.0
PRODID:-//Plone.org//NONSGML plone.app.event//EN
X-WR-TIMEZONE:Europe/Vienna
BEGIN:VEVENT
SUMMARY:The parrot and the rabbit
DTSTART;TZID=Europe/Vienna:20220303T140000
DTSTAMP:20260422T040612Z
UID:a3c61fe496ea4ae68b0da38960d9b736@www.akbild.ac.at
CATEGORIES:Vorträge / Veranstaltungen
CREATED:20220325T124427Z
DESCRIPTION:Ana Magalhães &amp\; Sabeth Buchmann: presentation of the pro
 gramme\nAs part of the lecture series   Transatlantic Modernities between 
 Brazil and Austria.
LAST-MODIFIED:20240802T101909Z
URL:https://www.akbild.ac.at/de/institute/kunst-und-kulturwissenschaften/v
 eranstaltungen/konferenzen/2022/transatlantic-modernities-between-brazil-a
 nd-austria/the-parrot-and-the-rabbit
END:VEVENT
BEGIN:VTIMEZONE
TZID:Europe/Vienna
X-LIC-LOCATION:Europe/Vienna
BEGIN:STANDARD
DTSTART:20211031T020000
TZNAME:CET
TZOFFSETFROM:+0200
TZOFFSETTO:+0100
END:STANDARD
END:VTIMEZONE
END:VCALENDAR
