BEGIN:VCALENDAR
VERSION:2.0
PRODID:-//Plone.org//NONSGML plone.app.event//EN
X-WR-TIMEZONE:Europe/Vienna
BEGIN:VEVENT
SUMMARY:After Autonomy: Toward a Decolonial Aesthetics and the Question of
  Minor Relationalities
DTSTART;VALUE=DATE:20240926
DTEND;VALUE=DATE:20240928
DTSTAMP:20260422T210244Z
UID:3d3d912738634b2289da21da5e25bb3c@www.akbild.ac.at
CATEGORIES:Konferenzen
CREATED:20240919T074016Z
DESCRIPTION:Die von Katja Diefenbach\, Çiğdem Inan\, Ruth Sonderegger un
 d Pablo Valdivia Orozco organisierte Konferenz widmet sich der Frage\, wel
 ches soziale und politische Potenzial ästhetischen Praktiken innewohnt\, 
 um der vielfältigen Gewalt des racial capitalism zu widerstehen.
LAST-MODIFIED:20240925T132224Z
URL:https://www.akbild.ac.at/de/institute/kunst-und-kulturwissenschaften/v
 eranstaltungen/konferenzen/2024/perception-jurisdiction-and-valorization-i
 n-colonial-modernity-on-the-nexus-of-accumulation-race-and-aesthetics
END:VEVENT
END:VCALENDAR
