BEGIN:VCALENDAR
VERSION:2.0
PRODID:-//Plone.org//NONSGML plone.app.event//EN
X-WR-TIMEZONE:Europe/Vienna
BEGIN:VEVENT
SUMMARY:Was tun? Ironie\, Verfremdung und Wahrsprechen in einer aus den Fu
 gen geratenen Welt
DTSTART;VALUE=DATE:20240125
DTEND;VALUE=DATE:20240127
DTSTAMP:20260419T115319Z
UID:b98121b6517040868272706e33ac373c@www.akbild.ac.at
CATEGORIES:Konferenzen
CREATED:20240107T160424Z
DESCRIPTION:Ein zweitägiges Symposium mit Filmvorführungen von Chto Dela
 t\, einem international bekannten Künstler- und Forscher_innenkollektiv\,
  das 2003-2004 in St. Petersburg gegründet wurde. Die Veranstaltung wird 
 von Mitgliedern des Kollektivs moderiert and präsentiert\, und von Beitr
 ägen von Gastredner_innen begleitet.
LAST-MODIFIED:20240802T101909Z
URL:https://www.akbild.ac.at/de/institute/kunst-und-kulturwissenschaften/v
 eranstaltungen/konferenzen/2024/was-tun-ironie-verfremdung-und-wahrspreche
 n-in-einer-aus-den-fugen-geratenen-welt
END:VEVENT
END:VCALENDAR
