BEGIN:VCALENDAR
VERSION:2.0
PRODID:-//Plone.org//NONSGML plone.app.event//EN
X-WR-TIMEZONE:Europe/Vienna
BEGIN:VEVENT
SUMMARY:Weggestaltung. Zum Umgang mit problematischen Ehrenmälern
DTSTART;TZID=Europe/Vienna:20260507T150000
DTEND;TZID=Europe/Vienna:20260507T193000
DTSTAMP:20260424T063224Z
UID:8867a68c561f4c4e8d4b093ce6119317@www.akbild.ac.at
CATEGORIES:Konferenzen
CREATED:20260423T114341Z
DESCRIPTION:Die Konferenz wird organisiert von Eduard Freudmann\, Jakob Kr
 ameritsch und Ruth Sonderegger.
LAST-MODIFIED:20260423T123142Z
URL:https://www.akbild.ac.at/de/institute/kunst-und-kulturwissenschaften/v
 eranstaltungen/konferenzen/2026/weggestaltung-zum-umgang-mit-problematisch
 en-ehrenmaelern
END:VEVENT
BEGIN:VTIMEZONE
TZID:Europe/Vienna
X-LIC-LOCATION:Europe/Vienna
BEGIN:DAYLIGHT
DTSTART:20260329T030000
TZNAME:CEST
TZOFFSETFROM:+0100
TZOFFSETTO:+0200
END:DAYLIGHT
END:VTIMEZONE
END:VCALENDAR
