BEGIN:VCALENDAR
VERSION:2.0
PRODID:-//Plone.org//NONSGML plone.app.event//EN
X-WR-TIMEZONE:Europe/Vienna
BEGIN:VEVENT
SUMMARY:Buchpräsentation
DTSTART;TZID=Europe/Vienna:20091020T193000
DTSTAMP:20260424T120854Z
UID:6d4373dc85818f59bfe8613253a63318@www.akbild.ac.at
CATEGORIES:Vorträge / Veranstaltungen
CREATED:20220312T095407Z
DESCRIPTION:Love me or leave me | Liebeskonstrukte in der Populärkultur\n
  \n Doris Guth\, Heide Hammer (Hg.)\, Wien 2009
LAST-MODIFIED:20240802T101905Z
URL:https://www.akbild.ac.at/de/institute/kunst-und-kulturwissenschaften/v
 eranstaltungen/vortrage-events/2009/akbild_event.2009-10-06.1700484502
END:VEVENT
BEGIN:VTIMEZONE
TZID:Europe/Vienna
X-LIC-LOCATION:Europe/Vienna
BEGIN:DAYLIGHT
DTSTART:20090329T030000
TZNAME:CEST
TZOFFSETFROM:+0100
TZOFFSETTO:+0200
END:DAYLIGHT
END:VTIMEZONE
END:VCALENDAR
