BEGIN:VCALENDAR
VERSION:2.0
PRODID:-//Plone.org//NONSGML plone.app.event//EN
X-WR-TIMEZONE:Europe/Vienna
BEGIN:VEVENT
SUMMARY:Ina Blom | Style as Site. A Redefinition of the Art and Sociality 
 Question
DTSTART;TZID=Europe/Vienna:20091210T180000
DTSTAMP:20260423T083432Z
UID:8a71d2d83fb11347d6a84a729ad974d8@www.akbild.ac.at
CATEGORIES:Vorträge / Veranstaltungen
CREATED:20220312T095412Z
DESCRIPTION:Vortrag veranstaltet vom Institut für Kunst- und Kulturwissen
 schaften im Rahmen der Vorlesung „Kunst der Moderne“ von Sabeth Buchma
 nn.
LAST-MODIFIED:20240802T101905Z
URL:https://www.akbild.ac.at/de/institute/kunst-und-kulturwissenschaften/v
 eranstaltungen/vortrage-events/2009/akbild_event.2009-11-30.1492953583
END:VEVENT
BEGIN:VTIMEZONE
TZID:Europe/Vienna
X-LIC-LOCATION:Europe/Vienna
BEGIN:STANDARD
DTSTART:20091025T020000
TZNAME:CET
TZOFFSETFROM:+0200
TZOFFSETTO:+0100
END:STANDARD
END:VTIMEZONE
END:VCALENDAR
