BEGIN:VCALENDAR
VERSION:2.0
PRODID:-//Plone.org//NONSGML plone.app.event//EN
X-WR-TIMEZONE:Europe/Vienna
BEGIN:VEVENT
SUMMARY:Stop and Go – Terminal Erdberg |  Tour #1: Knotenpunkte transnat
 ionaler Mobilität und Migration in Wien
DTSTART;TZID=Europe/Vienna:20141219T170000
DTSTAMP:20260424T080552Z
UID:a98a91411b7b5f622a60b1a76224592d@www.akbild.ac.at
CATEGORIES:Vorträge / Veranstaltungen
CREATED:20220312T095515Z
DESCRIPTION:Eine Stadtführung mit Ivaylo Ditchev (Kulturanthropologe\, So
 fia\, Fellow am\n  \n   IWM\n  \n  \,\n Wien)\, Michael Hieslmair und Mich
 ael Zinganel (Stadtforscher\,\n  \n   Tracing Spaces\n  \n  \, Wien)\,\n 
 sowie mit Expert_innen\n an den jeweiligen Stationen. Eine Veranstaltung d
 es \nWWTF-Forschungsprojektes Stop and Go am Institut für Kunst- und Kult
 urwissenschaften.
LAST-MODIFIED:20240802T101905Z
URL:https://www.akbild.ac.at/de/institute/kunst-und-kulturwissenschaften/v
 eranstaltungen/vortrage-events/2014/stop-and-go-2013-terminal-erdberg-tour
 -1-knotenpunkte-transnationaler-mobilitaet-und-migration-in-wien
END:VEVENT
BEGIN:VTIMEZONE
TZID:Europe/Vienna
X-LIC-LOCATION:Europe/Vienna
BEGIN:STANDARD
DTSTART:20141026T020000
TZNAME:CET
TZOFFSETFROM:+0200
TZOFFSETTO:+0100
END:STANDARD
END:VTIMEZONE
END:VCALENDAR
