BEGIN:VCALENDAR
VERSION:2.0
PRODID:-//Plone.org//NONSGML plone.app.event//EN
X-WR-TIMEZONE:Europe/Vienna
BEGIN:VEVENT
SUMMARY:Fashion & Textile Studies | Elke Gaugele
DTSTART;TZID=Europe/Vienna:20150113T180000
DTSTAMP:20260426T021556Z
UID:5b3d675b7e588de46e1eb824c751d8ab@www.akbild.ac.at
CATEGORIES:Vorträge / Veranstaltungen
CREATED:20220312T095522Z
DESCRIPTION:Vortrag im Rahmen der Ringvorlesung "Theoretische Ansätze und
  Methoden" organisiert von Jens Kastner und Dunja Reithner.
LAST-MODIFIED:20240802T101902Z
URL:https://www.akbild.ac.at/de/institute/kunst-und-kulturwissenschaften/v
 eranstaltungen/vortrage-events/2015/bild-theorie-kunst-geschichte
END:VEVENT
BEGIN:VTIMEZONE
TZID:Europe/Vienna
X-LIC-LOCATION:Europe/Vienna
BEGIN:STANDARD
DTSTART:20141026T020000
TZNAME:CET
TZOFFSETFROM:+0200
TZOFFSETTO:+0100
END:STANDARD
END:VTIMEZONE
END:VCALENDAR
