BEGIN:VCALENDAR
VERSION:2.0
PRODID:-//Plone.org//NONSGML plone.app.event//EN
X-WR-TIMEZONE:Europe/Vienna
BEGIN:VEVENT
SUMMARY:Die Praxis des Sehens | Über das Zusammenspiel von Körpern\, Art
 efakten und visueller Ordnung
DTSTART;TZID=Europe/Vienna:20150119T180000
DTSTAMP:20260424T013139Z
UID:01882aec5ccd419be721b6660124b00d@www.akbild.ac.at
CATEGORIES:Vorträge / Veranstaltungen
CREATED:20220312T095523Z
DESCRIPTION:Vortrag von Sophia Prinz (Soziologin\, Berlin/ Frankfurt (Oder
 )) im Rahmen der Reihe "Kunstfeld\, Kunstwelt\, Kunstsystem - Kunstsoziolo
 gie Heute". Eine kleine Ringvorlesung am Institut für Kunst- und Kulturwi
 ssenschaften Seit Wintersemester 2013/14 (ff.). Organisiert von Jens Kastn
 er.
LAST-MODIFIED:20240802T101902Z
URL:https://www.akbild.ac.at/de/institute/kunst-und-kulturwissenschaften/v
 eranstaltungen/vortrage-events/2015/die-praxis-des-sehens-u308ber-das-zusa
 mmenspiel-von-ko308rpern-artefakten-und-visueller-ordnung
END:VEVENT
BEGIN:VTIMEZONE
TZID:Europe/Vienna
X-LIC-LOCATION:Europe/Vienna
BEGIN:STANDARD
DTSTART:20141026T020000
TZNAME:CET
TZOFFSETFROM:+0200
TZOFFSETTO:+0100
END:STANDARD
END:VTIMEZONE
END:VCALENDAR
