BEGIN:VCALENDAR
VERSION:2.0
PRODID:-//Plone.org//NONSGML plone.app.event//EN
X-WR-TIMEZONE:Europe/Vienna
BEGIN:VEVENT
SUMMARY:Fantastic Tuesday: Yummy Flower
DTSTART;TZID=Europe/Vienna:20150505T180000
DTSTAMP:20260424T021803Z
UID:7eabbae47fb4ea0008d68110def9738c@www.akbild.ac.at
CATEGORIES:Vorträge / Veranstaltungen
CREATED:20220312T095540Z
DESCRIPTION:A presentation by Keiko Uenishi
LAST-MODIFIED:20240802T101902Z
URL:https://www.akbild.ac.at/de/institute/kunst-und-kulturwissenschaften/v
 eranstaltungen/vortrage-events/2015/fantastic-tuesday-yummy-flower
END:VEVENT
BEGIN:VTIMEZONE
TZID:Europe/Vienna
X-LIC-LOCATION:Europe/Vienna
BEGIN:DAYLIGHT
DTSTART:20150329T030000
TZNAME:CEST
TZOFFSETFROM:+0100
TZOFFSETTO:+0200
END:DAYLIGHT
END:VTIMEZONE
END:VCALENDAR
