BEGIN:VCALENDAR
VERSION:2.0
PRODID:-//Plone.org//NONSGML plone.app.event//EN
X-WR-TIMEZONE:Europe/Vienna
BEGIN:VEVENT
SUMMARY:Stop and Go – Terminal AKH Wien | Tour #2 | Knotenpunkte transna
 tionaler Mobilität und Migration in Wien
DTSTART;TZID=Europe/Vienna:20150206T130000
DTSTAMP:20260424T043954Z
UID:197ed4ec7db15e8959022a7cb3622d88@www.akbild.ac.at
CATEGORIES:Vorträge / Veranstaltungen
CREATED:20220312T095526Z
DESCRIPTION:Eine Stadtführung Michael Hieslmair und Michael Zinganel (Sta
 dtforscher\,\n \n  \n   Tracing Spaces\n  \n \n Wien). Eine Veranstaltung 
 des\n \n  \n   WWTF\n  \n \n -Forschungsprojektes "Stop and Go" am\n \n  \
 n   IKW\n  \n \n - Institut für Kunst- und Kulturwissenschaften.
LAST-MODIFIED:20240802T101902Z
URL:https://www.akbild.ac.at/de/institute/kunst-und-kulturwissenschaften/v
 eranstaltungen/vortrage-events/2015/stop-and-go-2013-terminal-akh-wien
END:VEVENT
BEGIN:VTIMEZONE
TZID:Europe/Vienna
X-LIC-LOCATION:Europe/Vienna
BEGIN:STANDARD
DTSTART:20141026T020000
TZNAME:CET
TZOFFSETFROM:+0200
TZOFFSETTO:+0100
END:STANDARD
END:VTIMEZONE
END:VCALENDAR
