BEGIN:VCALENDAR
VERSION:2.0
PRODID:-//Plone.org//NONSGML plone.app.event//EN
X-WR-TIMEZONE:Europe/Vienna
BEGIN:VEVENT
SUMMARY:Stop and Go. Public Seminar/ Workshop – Tallinn
DTSTART;VALUE=DATE:20150520
DTEND;VALUE=DATE:20150522
DTSTAMP:20260425T011114Z
UID:ec3f7580a7217ee886bbdf31640ef2e2@www.akbild.ac.at
CATEGORIES:Vorträge / Veranstaltungen
CREATED:20220312T095545Z
DESCRIPTION:A research/art project focussing on the routes\, rhythms and e
 motions of transnational and urban mobility in Eastern Europe. The event i
 ncludes presentations\, a thematic exhibition\, and a mapping-practice rel
 ated workshop.\n\n\n This interdisciplinary forum aims to bring together s
 ocial science researchers\, artists and curators.
LAST-MODIFIED:20240802T101902Z
URL:https://www.akbild.ac.at/de/institute/kunst-und-kulturwissenschaften/v
 eranstaltungen/vortrage-events/2015/stop-and-go.-public-seminar-workshop-2
 013-tallinn
END:VEVENT
END:VCALENDAR
