BEGIN:VCALENDAR
VERSION:2.0
PRODID:-//Plone.org//NONSGML plone.app.event//EN
X-WR-TIMEZONE:Europe/Vienna
BEGIN:VEVENT
SUMMARY:The (post)Yugoslav Art Practices: Curating Difficult Knowledge
DTSTART;TZID=Europe/Vienna:20151201T180000
DTSTAMP:20260422T181723Z
UID:aa91aa737ea46158b21370cbe0df6c12@www.akbild.ac.at
CATEGORIES:Vorträge / Veranstaltungen
CREATED:20220312T095633Z
DESCRIPTION:Inaugural lecture by Jelena Petrovic\, Endowed Professor for C
 entral and South Eastern European Art installed in Cooperation between the
  Academy of Fine Arts Vienna and ERSTE Foundation.
LAST-MODIFIED:20240802T101905Z
URL:https://www.akbild.ac.at/de/institute/kunst-und-kulturwissenschaften/v
 eranstaltungen/vortrage-events/2015/the-post-yugoslav-art-practices-curati
 ng-difficult-knowledge
END:VEVENT
BEGIN:VTIMEZONE
TZID:Europe/Vienna
X-LIC-LOCATION:Europe/Vienna
BEGIN:STANDARD
DTSTART:20151025T020000
TZNAME:CET
TZOFFSETFROM:+0200
TZOFFSETTO:+0100
END:STANDARD
END:VTIMEZONE
END:VCALENDAR
