BEGIN:VCALENDAR
VERSION:2.0
PRODID:-//Plone.org//NONSGML plone.app.event//EN
X-WR-TIMEZONE:Europe/Vienna
BEGIN:VEVENT
SUMMARY:Afro-Pessimism. Theorizing Anti-Blackness | Frank B. Wilderson III
DTSTART;TZID=Europe/Vienna:20171214T150000
DTSTAMP:20260423T114453Z
UID:ef4c5fb906dd89e067c3e9d20407f1f7@www.akbild.ac.at
CATEGORIES:Vorträge / Veranstaltungen
CREATED:20220312T095815Z
DESCRIPTION:Datum |\n \n 13.12.2017\, 19.00 Uhr:\n \n  Reparations… Now\
 n \n \, Mumok\, Museumsplatz 1\, 1070 Vienna\n\n\n A cooperation between m
 umok\, Department of Theater\, Film and Media  Studies at the University o
 f Vienna and the PhD-in-Practice at the  Academy of Fine Arts Vienna.
LAST-MODIFIED:20240802T101902Z
URL:https://www.akbild.ac.at/de/institute/kunst-und-kulturwissenschaften/v
 eranstaltungen/vortrage-events/2017/afro-pessimism.-theorizing-anti-blackn
 ess-frank-b.-wilderson-iii
END:VEVENT
BEGIN:VTIMEZONE
TZID:Europe/Vienna
X-LIC-LOCATION:Europe/Vienna
BEGIN:STANDARD
DTSTART:20171029T020000
TZNAME:CET
TZOFFSETFROM:+0200
TZOFFSETTO:+0100
END:STANDARD
END:VTIMEZONE
END:VCALENDAR
