BEGIN:VCALENDAR
VERSION:2.0
PRODID:-//Plone.org//NONSGML plone.app.event//EN
X-WR-TIMEZONE:Europe/Vienna
BEGIN:VEVENT
SUMMARY:Digressing/Uprooting
DTSTART;TZID=Europe/Vienna:20170322T180000
DTSTAMP:20260424T035040Z
UID:644ea4065425b579e8b8f66972780893@www.akbild.ac.at
CATEGORIES:Vorträge / Veranstaltungen
CREATED:20220312T095713Z
DESCRIPTION:A presentation by Rafal Morusiewicz\n\n\n Under the title\n \n
   Fantastic Wednesday\n \n the PhD in Practice opens its   doors to the Ac
 ademy\, friends\, and other interested people. Program   participants pres
 ent their work in progress and experiment with   different formats of pres
 entation.
LAST-MODIFIED:20240802T101858Z
URL:https://www.akbild.ac.at/de/institute/kunst-und-kulturwissenschaften/v
 eranstaltungen/vortrage-events/2017/digressing-uprooting
END:VEVENT
BEGIN:VTIMEZONE
TZID:Europe/Vienna
X-LIC-LOCATION:Europe/Vienna
BEGIN:STANDARD
DTSTART:20161030T020000
TZNAME:CET
TZOFFSETFROM:+0200
TZOFFSETTO:+0100
END:STANDARD
END:VTIMEZONE
END:VCALENDAR
