BEGIN:VCALENDAR
VERSION:2.0
PRODID:-//Plone.org//NONSGML plone.app.event//EN
X-WR-TIMEZONE:Europe/Vienna
BEGIN:VEVENT
SUMMARY:Über die Beziehung zwischen Kunst und Ökologie
DTSTART;TZID=Europe/Vienna:20170602T140000
DTSTAMP:20260423T114608Z
UID:296fc8058c972d8723e96ae6fa936c75@www.akbild.ac.at
CATEGORIES:Vorträge / Veranstaltungen
CREATED:20220312T095731Z
DESCRIPTION:Elisabeth von Samsonow im Gespräch mit Timothy Morton |\n \n 
  Hyperobjects\n \n und Boyan Manchev |\n \n  The spider and the Cloud\n \n
  or\n \n  Preliminary Remarks on the Genealogy of Inhuman Techniques
LAST-MODIFIED:20240802T101901Z
URL:https://www.akbild.ac.at/de/institute/kunst-und-kulturwissenschaften/v
 eranstaltungen/vortrage-events/2017/ueber-die-beziehung-zwischen-kunst-und
 -oekologie
END:VEVENT
BEGIN:VTIMEZONE
TZID:Europe/Vienna
X-LIC-LOCATION:Europe/Vienna
BEGIN:DAYLIGHT
DTSTART:20170326T030000
TZNAME:CEST
TZOFFSETFROM:+0100
TZOFFSETTO:+0200
END:DAYLIGHT
END:VTIMEZONE
END:VCALENDAR
