BEGIN:VCALENDAR
VERSION:2.0
PRODID:-//Plone.org//NONSGML plone.app.event//EN
X-WR-TIMEZONE:Europe/Vienna
BEGIN:VEVENT
SUMMARY:Xavier Le Roy | Scarlet Yu (Berlin)
DTSTART;TZID=Europe/Vienna:20180517T183000
DTSTAMP:20260423T114453Z
UID:215b522f24bd5cb59f3b23f01cc2b949@www.akbild.ac.at
CATEGORIES:Vorträge / Veranstaltungen
CREATED:20220312T095831Z
DESCRIPTION:Künstler_innengespräch im Rahmen von\n \n  Verhältnisse\n \
 n \n  | Methoden der „Appropriation Art“ (Kunst der Aneignung) als Pro
 zesse des Verstehens\, Beziehens und Distanzierens\n \n by Nathalie Koger.
LAST-MODIFIED:20240802T101858Z
URL:https://www.akbild.ac.at/de/institute/kunst-und-kulturwissenschaften/v
 eranstaltungen/vortrage-events/2018/copy_of_manuel-pelmus-bucharest-remedi
 ations
END:VEVENT
BEGIN:VTIMEZONE
TZID:Europe/Vienna
X-LIC-LOCATION:Europe/Vienna
BEGIN:DAYLIGHT
DTSTART:20180325T030000
TZNAME:CEST
TZOFFSETFROM:+0100
TZOFFSETTO:+0200
END:DAYLIGHT
END:VTIMEZONE
END:VCALENDAR
