BEGIN:VCALENDAR
VERSION:2.0
PRODID:-//Plone.org//NONSGML plone.app.event//EN
X-WR-TIMEZONE:Europe/Vienna
BEGIN:VEVENT
SUMMARY:Cybernetics of the Poor
DTSTART;VALUE=DATE:20190517
DTEND;VALUE=DATE:20190519
DTSTAMP:20260420T091620Z
UID:3c70c165ceba958e9e2d830a8dda56cc@www.akbild.ac.at
CATEGORIES:Vorträge / Veranstaltungen
CREATED:20220312T095920Z
DESCRIPTION:International seminar. Second part organized by the Institute 
 for Art Theory and Cultural Studies. (First part: Tabakalera\, Donostía 
 – San Sebastián\, April 12 and 13)
LAST-MODIFIED:20240802T101858Z
URL:https://www.akbild.ac.at/de/institute/kunst-und-kulturwissenschaften/v
 eranstaltungen/vortrage-events/2019/cybernetics-of-the-poor
END:VEVENT
END:VCALENDAR
