BEGIN:VCALENDAR
VERSION:2.0
PRODID:-//Plone.org//NONSGML plone.app.event//EN
X-WR-TIMEZONE:Europe/Vienna
BEGIN:VEVENT
SUMMARY:Exhibiting and Collecting. The making of Collections of Modern und
  Contemporary Art at  Museum of Modern Art and Museum of Contemporary Art 
 of the University of São Paulo
DTSTART;TZID=Europe/Vienna:20190627T160000
DTSTAMP:20260425T141416Z
UID:a3e25e345fcaf0b923e218aa406ecfbe@www.akbild.ac.at
CATEGORIES:Vorträge / Veranstaltungen
CREATED:20220312T095934Z
DESCRIPTION:Lecture by Ana Gonçalves Magalhães
LAST-MODIFIED:20240802T101858Z
URL:https://www.akbild.ac.at/de/institute/kunst-und-kulturwissenschaften/v
 eranstaltungen/vortrage-events/2019/exhibiting-and-collecting.-the-making-
 of-collections-of-modern-und-contemporary-art-at-museum-of-modern-art-and-
 museum-of-contemporary-art-of-the-university-of-sao-paulo
END:VEVENT
BEGIN:VTIMEZONE
TZID:Europe/Vienna
X-LIC-LOCATION:Europe/Vienna
BEGIN:DAYLIGHT
DTSTART:20190331T030000
TZNAME:CEST
TZOFFSETFROM:+0100
TZOFFSETTO:+0200
END:DAYLIGHT
END:VTIMEZONE
END:VCALENDAR
