BEGIN:VCALENDAR
VERSION:2.0
PRODID:-//Plone.org//NONSGML plone.app.event//EN
X-WR-TIMEZONE:Europe/Vienna
BEGIN:VEVENT
SUMMARY:The Dissident Goddesses' Lecture #2
DTSTART;TZID=Europe/Vienna:20190720T190000
DTSTAMP:20260424T215621Z
UID:35112add2421ae216a93ff9c8aaa4da3@www.akbild.ac.at
CATEGORIES:Vorträge / Veranstaltungen
CREATED:20220312T095938Z
DESCRIPTION:Filmpräsenttion: Margot Pilz\,\n \n  HERSTORY\n \n \n  – 36
 .000 Years of Goddesses and Idols\n \n \, 2011/2012\n \n Vortrag: Dr. Heid
 e Göttner-Abendroth\,\n \n  Matriarchat heute und morgen. Die Bedeutung d
 er modernen Matriarchatsforschung für neue Gesellschaftsformen\n  \n \n M
 oderation: Elisabeth von Samsonow\n\n\n Eintritt frei
LAST-MODIFIED:20240802T101858Z
URL:https://www.akbild.ac.at/de/institute/kunst-und-kulturwissenschaften/v
 eranstaltungen/vortrage-events/2019/the-dissident-goddesses2018-lecture-2
END:VEVENT
BEGIN:VTIMEZONE
TZID:Europe/Vienna
X-LIC-LOCATION:Europe/Vienna
BEGIN:DAYLIGHT
DTSTART:20190331T030000
TZNAME:CEST
TZOFFSETFROM:+0100
TZOFFSETTO:+0200
END:DAYLIGHT
END:VTIMEZONE
END:VCALENDAR
