BEGIN:VCALENDAR
VERSION:2.0
PRODID:-//Plone.org//NONSGML plone.app.event//EN
X-WR-TIMEZONE:Europe/Vienna
BEGIN:VEVENT
SUMMARY:The Dissident Goddesses‘ Network Temple Hour #1
DTSTART;TZID=Europe/Vienna:20191118T193000
DTSTAMP:20260424T232559Z
UID:0927c9e113252db892a81a1f4f6bc149@www.akbild.ac.at
CATEGORIES:Vorträge / Veranstaltungen
CREATED:20220312T095954Z
DESCRIPTION:Die Veranstaltung findet im Rahmen des Forschungsprojektes\n \
 n  The Dissident Goddesses Network\n \n am Institut für Kunst- und Kultur
 wissenschaften statt in Kooperation mit dem OFROOM Innovation Circle.\n \n
  Special guest: Arthur Mamou-Mani\, London/Paris
LAST-MODIFIED:20240802T101858Z
URL:https://www.akbild.ac.at/de/institute/kunst-und-kulturwissenschaften/v
 eranstaltungen/vortrage-events/2019/the-dissident-goddesses2018-network-te
 mple-hour-1
END:VEVENT
BEGIN:VTIMEZONE
TZID:Europe/Vienna
X-LIC-LOCATION:Europe/Vienna
BEGIN:STANDARD
DTSTART:20191027T020000
TZNAME:CET
TZOFFSETFROM:+0200
TZOFFSETTO:+0100
END:STANDARD
END:VTIMEZONE
END:VCALENDAR
