BEGIN:VCALENDAR
VERSION:2.0
PRODID:-//Plone.org//NONSGML plone.app.event//EN
X-WR-TIMEZONE:Europe/Vienna
BEGIN:VEVENT
SUMMARY:Dialog als künstlerische Form | Anna Zett und Hermann Heisig zu i
 hrer partizipativen Forschung Resonanz
DTSTART;TZID=Europe/Vienna:20201207T180000
DTEND;TZID=Europe/Vienna:20201207T200000
DTSTAMP:20260423T192020Z
UID:694f220d82c5d25c885dc58c47097f51@www.akbild.ac.at
CATEGORIES:Vorträge / Veranstaltungen
CREATED:20220312T100050Z
DESCRIPTION:Für die Lecture Series Artistic Research laden Studierende de
 s Master in Critical Studies Gäste ein\, um ihre Arbeit zu präsentieren
  und gemeinsam Methoden künstlerischer Forschung zu diskutieren\, die s
 ich mit der Disziplin und der Praxis von Artistic Research auf der Grun
 dlage ethischer Fragen und Verantwortung widmen.\n  \n  \n \n \n  Der Vo
 rtrag von Anna Zett und Hermann Heisig ist auf Deutsch. Es können Fragen 
 auf Englisch gestellt werden.\n \n \n \n  Für den Zoom Link bitten wir um
  Anmeldung an\n \n \n  macriticalstudies@gmail.com\n \n \n  .\n \n \n \n \
 n  Organisiert von Jackie Grassmann und Leonie Huber
LAST-MODIFIED:20240802T101854Z
URL:https://www.akbild.ac.at/de/institute/kunst-und-kulturwissenschaften/v
 eranstaltungen/vortrage-events/2020/dialog-als-kuenstlerische-form-anna-ze
 tt-und-hermann-heisig-zu-ihrer-partizipativen-forschung-resonanz
END:VEVENT
BEGIN:VTIMEZONE
TZID:Europe/Vienna
X-LIC-LOCATION:Europe/Vienna
BEGIN:STANDARD
DTSTART:20201025T020000
TZNAME:CET
TZOFFSETFROM:+0200
TZOFFSETTO:+0100
END:STANDARD
END:VTIMEZONE
END:VCALENDAR
