BEGIN:VCALENDAR
VERSION:2.0
PRODID:-//Plone.org//NONSGML plone.app.event//EN
X-WR-TIMEZONE:Europe/Vienna
BEGIN:VEVENT
SUMMARY:Lecture Series Artistic Research
DTSTART;TZID=Europe/Vienna:20200622T190000
DTEND;TZID=Europe/Vienna:20200622T210000
DTSTAMP:20260423T221041Z
UID:9e638e73e61ff3fb5af8623e406f16ab@www.akbild.ac.at
CATEGORIES:Vorträge / Veranstaltungen
CREATED:20220312T100026Z
DESCRIPTION:Stefano Harney and Fred Moten on\n  \n   The Art World\, Art\
 , and Black Study\n  \n \n \n Invited by Jackie Grassmann and Leonie Huber
 \n\n\n In the context of the seminar\n \n  Artistic Research\n \n students
  of the Master  in Critical Studies invited guest lecturers to present the
 ir work and  discuss methodologies related to Artistic Research as a disci
 pline\, as a  practice\, and on the basis of ethical questions and  respon
 sibilities.\n\n\n Due to limited capacity\, please register in advance unt
 il the day before:\n \n  macriticalstudies@gmail.com\n \n \n\n\n Organised
  by Jackie Grassmann and Leonie Huber
LAST-MODIFIED:20240802T101854Z
URL:https://www.akbild.ac.at/de/institute/kunst-und-kulturwissenschaften/v
 eranstaltungen/vortrage-events/2020/lecture-series-artistic-research
END:VEVENT
BEGIN:VTIMEZONE
TZID:Europe/Vienna
X-LIC-LOCATION:Europe/Vienna
BEGIN:DAYLIGHT
DTSTART:20200329T030000
TZNAME:CEST
TZOFFSETFROM:+0100
TZOFFSETTO:+0200
END:DAYLIGHT
END:VTIMEZONE
END:VCALENDAR
