BEGIN:VCALENDAR
VERSION:2.0
PRODID:-//Plone.org//NONSGML plone.app.event//EN
X-WR-TIMEZONE:Europe/Vienna
BEGIN:VEVENT
SUMMARY:Rehearsing Research - Bracha Lichtenberg Ettinger
DTSTART;TZID=Europe/Vienna:20210426T180000
DTSTAMP:20260426T024821Z
UID:7121a6772ebf099e902c5df385c74e38@www.akbild.ac.at
CATEGORIES:Vorträge / Veranstaltungen
CREATED:20220312T100154Z
DESCRIPTION:Bracha Lichtenberg Ettinger on\n \n  Deceleration\, Communicar
 ing\, Com-passion.\n \n \n \n  Artworking in the age of gaze-screen-eye sy
 mbiosis and digital stupor\n \n\n\n Invited by Andrea Zabric within the le
 cture series of the Master of Critical Studies.\n \n Coordinated by Jackie
  Grassmann and Leonie Huber.
LAST-MODIFIED:20240802T101854Z
URL:https://www.akbild.ac.at/de/institute/kunst-und-kulturwissenschaften/v
 eranstaltungen/vortrage-events/2021/copy_of_rehearsing-research
END:VEVENT
BEGIN:VTIMEZONE
TZID:Europe/Vienna
X-LIC-LOCATION:Europe/Vienna
BEGIN:DAYLIGHT
DTSTART:20210328T030000
TZNAME:CEST
TZOFFSETFROM:+0100
TZOFFSETTO:+0200
END:DAYLIGHT
END:VTIMEZONE
END:VCALENDAR
