BEGIN:VCALENDAR
VERSION:2.0
PRODID:-//Plone.org//NONSGML plone.app.event//EN
X-WR-TIMEZONE:Europe/Vienna
BEGIN:VEVENT
SUMMARY:Speed Dating
DTSTART;TZID=Europe/Vienna:20210930T180000
DTSTAMP:20260419T134444Z
UID:11d56c4e8ff3892f5956da5b122bdcd0@www.akbild.ac.at
CATEGORIES:Vorträge / Veranstaltungen
CREATED:20220312T100214Z
DESCRIPTION:mit Autor*innen und Herausgeber*innen von Büchern\, die kurz 
 vor oder während der Pandemie im Umkreis bzw. unter Mitwirkung von Mitgli
 edern des Instituts für Kunst und Kulturwissenschaften der Akademie der b
 ildenden Künste Wien erschienen sind.\n\n\n Eröffnung durch Rektor Johan
  F. Hartle
LAST-MODIFIED:20240802T101854Z
URL:https://www.akbild.ac.at/de/institute/kunst-und-kulturwissenschaften/v
 eranstaltungen/vortrage-events/2021/speed-dating
END:VEVENT
BEGIN:VTIMEZONE
TZID:Europe/Vienna
X-LIC-LOCATION:Europe/Vienna
BEGIN:DAYLIGHT
DTSTART:20210328T030000
TZNAME:CEST
TZOFFSETFROM:+0100
TZOFFSETTO:+0200
END:DAYLIGHT
END:VTIMEZONE
END:VCALENDAR
