BEGIN:VCALENDAR
VERSION:2.0
PRODID:-//Plone.org//NONSGML plone.app.event//EN
X-WR-TIMEZONE:Europe/Vienna
BEGIN:VEVENT
SUMMARY:The opposite of an opposite: a study session convened by Serena Le
 e
DTSTART;TZID=Europe/Vienna:20211117T180000
DTSTAMP:20260421T225154Z
UID:e741e5597fedc94c93674f6e15dc194b@www.akbild.ac.at
CATEGORIES:Vorträge / Veranstaltungen
CREATED:20220312T100239Z
DESCRIPTION:The Ph.D. in Practice and South Asian Visual Arts Centre (SAVA
 C) would like to invite you to the coming\n \n  Fantastic Wednesday\n \n 
 event with\n \n  Serena Lee.\n \n The event is organized as part of a mont
 hly program of the Ph.D. in Practice of the Academy of Fine Arts Vienna.\n
  \n\n\n Zoom link:\n \n  https://us06web.zoom.us/j/84467137202
LAST-MODIFIED:20240802T101854Z
URL:https://www.akbild.ac.at/de/institute/kunst-und-kulturwissenschaften/v
 eranstaltungen/vortrage-events/2021/the-opposite-of-an-opposite-a-study-se
 ssion-convened-by-serena-lee
END:VEVENT
BEGIN:VTIMEZONE
TZID:Europe/Vienna
X-LIC-LOCATION:Europe/Vienna
BEGIN:STANDARD
DTSTART:20211031T020000
TZNAME:CET
TZOFFSETFROM:+0200
TZOFFSETTO:+0100
END:STANDARD
END:VTIMEZONE
END:VCALENDAR
