BEGIN:VCALENDAR
VERSION:2.0
PRODID:-//Plone.org//NONSGML plone.app.event//EN
X-WR-TIMEZONE:Europe/Vienna
BEGIN:VEVENT
SUMMARY:Zoom Fantastic Wednesday – Rojda Tuğrul | 'A Turtle in Ten Seco
 nds'
DTSTART;TZID=Europe/Vienna:20210113T180000
DTSTAMP:20260424T075704Z
UID:ddef4e173482913cdbc071d912cc2457@www.akbild.ac.at
CATEGORIES:Vorträge / Veranstaltungen
CREATED:20220312T100124Z
DESCRIPTION:The PhD in Practice welcome you to one of their Fantastic Week
 days events where one of the candidates presents part of their artistic re
 search to an open audience. Join us for screenings\, performances and disc
 ussions.
LAST-MODIFIED:20240919T081334Z
URL:https://www.akbild.ac.at/de/institute/kunst-und-kulturwissenschaften/v
 eranstaltungen/vortrage-events/2021/zoom-fantastic-wednesday-2013-rojda-tu
 grul-a-turtle-in-ten-seconds
END:VEVENT
BEGIN:VTIMEZONE
TZID:Europe/Vienna
X-LIC-LOCATION:Europe/Vienna
BEGIN:STANDARD
DTSTART:20201025T020000
TZNAME:CET
TZOFFSETFROM:+0200
TZOFFSETTO:+0100
END:STANDARD
END:VTIMEZONE
END:VCALENDAR
