BEGIN:VCALENDAR
VERSION:2.0
PRODID:-//Plone.org//NONSGML plone.app.event//EN
X-WR-TIMEZONE:Europe/Vienna
BEGIN:VEVENT
SUMMARY:Feminist Transnational Non-Aligned Movement: Politics of Possibili
 ty and Hope
DTSTART;TZID=Europe/Vienna:20221020T190000
DTSTAMP:20260419T125042Z
UID:37e21e8332fb419daf68a18e39c91db2@www.akbild.ac.at
CATEGORIES:Vorträge / Veranstaltungen
CREATED:20221006T153520Z
DESCRIPTION:Margo Okazawa-Rey im Gespräch mit Faris Cuchi Gezahegn\, mode
 riert von Sushila Mesquita
LAST-MODIFIED:20240919T081334Z
URL:https://www.akbild.ac.at/de/institute/kunst-und-kulturwissenschaften/v
 eranstaltungen/vortrage-events/2022/feminist-transnational-non-aligned-mov
 ement-politics-of-possibility-and-hope
END:VEVENT
BEGIN:VTIMEZONE
TZID:Europe/Vienna
X-LIC-LOCATION:Europe/Vienna
BEGIN:DAYLIGHT
DTSTART:20220327T030000
TZNAME:CEST
TZOFFSETFROM:+0100
TZOFFSETTO:+0200
END:DAYLIGHT
END:VTIMEZONE
END:VCALENDAR
