BEGIN:VCALENDAR
VERSION:2.0
PRODID:-//Plone.org//NONSGML plone.app.event//EN
X-WR-TIMEZONE:Europe/Vienna
BEGIN:VEVENT
SUMMARY:Gelebte Revolution. Anarchismus in der Kibbuzbewegung
DTSTART;TZID=Europe/Vienna:20220329T190000
DTSTAMP:20260424T100347Z
UID:49b2eb291441f31a3fa560790bb4f0c3@www.akbild.ac.at
CATEGORIES:Vorträge / Veranstaltungen
CREATED:20220312T100257Z
DESCRIPTION:Buchvorstellung mit dem Übersetzer Lou Marin
LAST-MODIFIED:20240919T081334Z
URL:https://www.akbild.ac.at/de/institute/kunst-und-kulturwissenschaften/v
 eranstaltungen/vortrage-events/2022/gelebte-revolution.-anarchismus-in-der
 -kibbuzbewegung
END:VEVENT
BEGIN:VTIMEZONE
TZID:Europe/Vienna
X-LIC-LOCATION:Europe/Vienna
BEGIN:DAYLIGHT
DTSTART:20220327T030000
TZNAME:CEST
TZOFFSETFROM:+0100
TZOFFSETTO:+0200
END:DAYLIGHT
END:VTIMEZONE
END:VCALENDAR
