BEGIN:VCALENDAR
VERSION:2.0
PRODID:-//Plone.org//NONSGML plone.app.event//EN
X-WR-TIMEZONE:Europe/Vienna
BEGIN:VEVENT
SUMMARY:Interpolations: Working With and Against the Archive of the Creati
 ve Child
DTSTART;TZID=Europe/Vienna:20221126T130000
DTEND;TZID=Europe/Vienna:20221126T160000
DTSTAMP:20260419T164207Z
UID:0c7109d97d8f46aa8ae230ce42dad566@www.akbild.ac.at
CATEGORIES:Workshops
CREATED:20221111T101905Z
DESCRIPTION:Master in Critical Studies: Workshop mit Cat Martins und Tiago
  Assis.
LAST-MODIFIED:20240919T081334Z
URL:https://www.akbild.ac.at/de/institute/kunst-und-kulturwissenschaften/v
 eranstaltungen/vortrage-events/2022/interpolations-working-with-and-agains
 t-the-archive-of-the-creative-child
END:VEVENT
BEGIN:VTIMEZONE
TZID:Europe/Vienna
X-LIC-LOCATION:Europe/Vienna
BEGIN:STANDARD
DTSTART:20221030T020000
TZNAME:CET
TZOFFSETFROM:+0200
TZOFFSETTO:+0100
END:STANDARD
END:VTIMEZONE
END:VCALENDAR
