BEGIN:VCALENDAR
VERSION:2.0
PRODID:-//Plone.org//NONSGML plone.app.event//EN
X-WR-TIMEZONE:Europe/Vienna
BEGIN:VEVENT
SUMMARY:The Tourist Gaze: the production of knowledge and information on p
 lace and space
DTSTART;TZID=Europe/Vienna:20221114T180000
DTSTAMP:20260424T135458Z
UID:0d4acafa43ea481e9ecb82169553045a@www.akbild.ac.at
CATEGORIES:Vorträge / Veranstaltungen
CREATED:20221031T114441Z
DESCRIPTION:Gastvortrag von Abbéy Odunlami\, Ph.D\, organisiert von Chris
 tian Kravagna (IKW).
LAST-MODIFIED:20240919T081334Z
URL:https://www.akbild.ac.at/de/institute/kunst-und-kulturwissenschaften/v
 eranstaltungen/vortrage-events/2022/the-tourist-gaze-the-production-of-kno
 wledge-and-information-on-place-and-space
END:VEVENT
BEGIN:VTIMEZONE
TZID:Europe/Vienna
X-LIC-LOCATION:Europe/Vienna
BEGIN:STANDARD
DTSTART:20221030T020000
TZNAME:CET
TZOFFSETFROM:+0200
TZOFFSETTO:+0100
END:STANDARD
END:VTIMEZONE
END:VCALENDAR
