BEGIN:VCALENDAR
VERSION:2.0
PRODID:-//Plone.org//NONSGML plone.app.event//EN
X-WR-TIMEZONE:Europe/Vienna
BEGIN:VEVENT
SUMMARY:Aufstand der Zeichen
DTSTART;TZID=Europe/Vienna:20230118T150000
DTSTAMP:20260424T204554Z
UID:2e6f4b124ffc423aa28488a9d66d499a@www.akbild.ac.at
CATEGORIES:Vorträge / Veranstaltungen
CREATED:20230113T093933Z
DESCRIPTION:Vortrag von Sean Snyder und Olga Bryukhovetska (in Englisch)
LAST-MODIFIED:20240919T081334Z
URL:https://www.akbild.ac.at/de/institute/kunst-und-kulturwissenschaften/v
 eranstaltungen/vortrage-events/2023/aufstand-der-zeichen
END:VEVENT
BEGIN:VTIMEZONE
TZID:Europe/Vienna
X-LIC-LOCATION:Europe/Vienna
BEGIN:STANDARD
DTSTART:20221030T020000
TZNAME:CET
TZOFFSETFROM:+0200
TZOFFSETTO:+0100
END:STANDARD
END:VTIMEZONE
END:VCALENDAR
